BEGIN:VCALENDAR
VERSION:2.0
PRODID:-//College of Engineering, Design, Art and TechnologyT - ECPv6.15.20//NONSGML v1.0//EN
CALSCALE:GREGORIAN
METHOD:PUBLISH
X-WR-CALNAME:College of Engineering, Design, Art and TechnologyT
X-ORIGINAL-URL:https://cedat.mak.ac.ug
X-WR-CALDESC:Events for College of Engineering, Design, Art and TechnologyT
REFRESH-INTERVAL;VALUE=DURATION:PT1H
X-Robots-Tag:noindex
X-PUBLISHED-TTL:PT1H
BEGIN:VTIMEZONE
TZID:UTC
BEGIN:STANDARD
TZOFFSETFROM:+0000
TZOFFSETTO:+0000
TZNAME:UTC
DTSTART:20240101T000000
END:STANDARD
END:VTIMEZONE
BEGIN:VEVENT
DTSTART;TZID=UTC:20250728T080000
DTEND;TZID=UTC:20250730T170000
DTSTAMP:20260419T222118
CREATED:20250728T120902Z
LAST-MODIFIED:20250728T120902Z
UID:14042-1753689600-1753894800@cedat.mak.ac.ug
SUMMARY:GNSS Pre-Conference Workshop
DESCRIPTION:
URL:https://cedat.mak.ac.ug/event/gnss-pre-conference-workshop/
LOCATION:New Building\, Level 3\, Comuter Lab\, Makerere University\, College of Enineering\, Design\, Art & Technology\, Kampala-Uganda\, Uganda
END:VEVENT
BEGIN:VEVENT
DTSTART;TZID=UTC:20250729T090000
DTEND;TZID=UTC:20250729T170000
DTSTAMP:20260419T222118
CREATED:20250711T133702Z
LAST-MODIFIED:20250711T134804Z
UID:13943-1753779600-1753808400@cedat.mak.ac.ug
SUMMARY:National Dissemination Workshop
DESCRIPTION:The event is organised under the auspices of UNESCO China Funds in Trust (CFIT) III project implemented by the School of Engineering\,  Makerere University and the Centre for innovation and Technology Transfer (CITT)\, Mbarara University of Science and Technology under a theme “ Higher Technical Education in Africa for an Innovative and Skilled labour Force Towards Agricultural Transformation“. The project focuses on contributing to the promotion of inclusive and equitable quality education in higher technical fields at the tertiary level\, to serve both economic development and lifelong learning needs.
URL:https://cedat.mak.ac.ug/event/national-dissemination-workshop/
LOCATION:CEDAT Conference Hall
CATEGORIES:Workshop
END:VEVENT
END:VCALENDAR