BEGIN:VCALENDAR
VERSION:2.0
PRODID:-//College of Engineering, Design, Art and TechnologyT - ECPv6.15.20//NONSGML v1.0//EN
CALSCALE:GREGORIAN
METHOD:PUBLISH
X-WR-CALNAME:College of Engineering, Design, Art and TechnologyT
X-ORIGINAL-URL:https://cedat.mak.ac.ug
X-WR-CALDESC:Events for College of Engineering, Design, Art and TechnologyT
REFRESH-INTERVAL;VALUE=DURATION:PT1H
X-Robots-Tag:noindex
X-PUBLISHED-TTL:PT1H
BEGIN:VTIMEZONE
TZID:UTC
BEGIN:STANDARD
TZOFFSETFROM:+0000
TZOFFSETTO:+0000
TZNAME:UTC
DTSTART:20240101T000000
END:STANDARD
END:VTIMEZONE
BEGIN:VEVENT
DTSTART;TZID=UTC:20250326T160000
DTEND;TZID=UTC:20250328T170000
DTSTAMP:20260420T171113
CREATED:20250324T073655Z
LAST-MODIFIED:20250324T074344Z
UID:10235-1743004800-1743181200@cedat.mak.ac.ug
SUMMARY:A PhD dissemination paper and exhibition of research findings
DESCRIPTION:
URL:https://cedat.mak.ac.ug/event/a-phd-dissemination-paper-and-exhibition-of-research-findings/
LOCATION:Makerere University Art Gallery\, Kampala\, Uganda
CATEGORIES:Art Exhibition,Margaret Trowell School of Industrial and Fine Arts (MTSIFA),PhD Desimanation
ATTACH;FMTTYPE=image/jpeg:https://cedat.mak.ac.ug/wp-content/uploads/2025/03/PhD_desimination.jpeg
ORGANIZER;CN="Margaret Trowell School of Industrial and Fine Art":MAILTO:dean-mtsifa.cedat@mak.ac.ug
END:VEVENT
END:VCALENDAR