BEGIN:VCALENDAR
VERSION:2.0
PRODID:-//College of Engineering, Design, Art and TechnologyT - ECPv6.15.20//NONSGML v1.0//EN
CALSCALE:GREGORIAN
METHOD:PUBLISH
X-WR-CALNAME:College of Engineering, Design, Art and TechnologyT
X-ORIGINAL-URL:https://cedat.mak.ac.ug
X-WR-CALDESC:Events for College of Engineering, Design, Art and TechnologyT
REFRESH-INTERVAL;VALUE=DURATION:PT1H
X-Robots-Tag:noindex
X-PUBLISHED-TTL:PT1H
BEGIN:VTIMEZONE
TZID:UTC
BEGIN:STANDARD
TZOFFSETFROM:+0000
TZOFFSETTO:+0000
TZNAME:UTC
DTSTART:20110101T000000
END:STANDARD
END:VTIMEZONE
BEGIN:VEVENT
DTSTART;TZID=UTC:20120611T080000
DTEND;TZID=UTC:20250620T170000
DTSTAMP:20260420T031950
CREATED:20250620T125410Z
LAST-MODIFIED:20250620T125410Z
UID:13817-1339401600-1750438800@cedat.mak.ac.ug
SUMMARY:Winning Photos Exhibition
DESCRIPTION:The Makerere Art Gallery will be hosting an exhibition on photojournalism Friday\, 9th November to Wednesday\, 28th November\, 2012. Photographers from all over Uganda have participated in the Uganda Press Photo Award competition organized by the Foreign Correspondents’ Association of Uganda and Friedrich Ebert Stiftung. \nLike the acclaimed World Press Photo\, their exhibited submissions will give a snapshot of life in Uganda in various categories. Makerere Art Gallery/IHCR is proud to host the event. \nThe exhibition is open to the public during the Gallery working hours: weekdays from 9:00 am to 5:00 pm and weekends from 1:00pm to 4:00pm starting on the 9th to the 28th of November 2012 \nhttp://makerereartgallery.wordpress.com/
URL:https://cedat.mak.ac.ug/event/winning-photos-exhibition/
LOCATION:Makerere University Art Gallery\, Kampala\, Uganda
CATEGORIES:Art Exhibition
ATTACH;FMTTYPE=image/jpeg:https://cedat.mak.ac.ug/wp-content/uploads/2025/06/EXHIBITION-POSTER-A4.jpg
ORGANIZER;CN="Margaret Trowell School of Industrial and Fine Art":MAILTO:dean-mtsifa.cedat@mak.ac.ug
END:VEVENT
BEGIN:VEVENT
DTSTART;TZID=UTC:20250410T080000
DTEND;TZID=UTC:20250419T170000
DTSTAMP:20260420T031950
CREATED:20250409T102449Z
LAST-MODIFIED:20250409T102449Z
UID:10444-1744272000-1745082000@cedat.mak.ac.ug
SUMMARY:Stories 4 Change Art Exhibition
DESCRIPTION:
URL:https://cedat.mak.ac.ug/event/stories-4-change-art-exhibition/
LOCATION:Makerere University Art Gallery\, Kampala\, Uganda
CATEGORIES:Art Exhibition,Margaret Trowell School of Industrial and Fine Arts (MTSIFA)
ORGANIZER;CN="Margaret Trowell School of Industrial and Fine Art":MAILTO:dean-mtsifa.cedat@mak.ac.ug
END:VEVENT
BEGIN:VEVENT
DTSTART;TZID=UTC:20250411T080000
DTEND;TZID=UTC:20250411T170000
DTSTAMP:20260420T031950
CREATED:20250409T101846Z
LAST-MODIFIED:20250409T101846Z
UID:10442-1744358400-1744390800@cedat.mak.ac.ug
SUMMARY:MTSIFA will host 30 art and design students from St. Mary's College and Mother Kevin College Mabira
DESCRIPTION:
URL:https://cedat.mak.ac.ug/event/mtsifa-will-host-30-art-and-design-students-from-st-marys-college-and-mother-kevin-college-mabira/
LOCATION:Makerere University Art Gallery\, Kampala\, Uganda
ORGANIZER;CN="Margaret Trowell School of Industrial and Fine Art":MAILTO:dean-mtsifa.cedat@mak.ac.ug
END:VEVENT
BEGIN:VEVENT
DTSTART;TZID=UTC:20250422T120000
DTEND;TZID=UTC:20250422T190000
DTSTAMP:20260420T031950
CREATED:20250311T140134Z
LAST-MODIFIED:20250311T140134Z
UID:9497-1745323200-1745348400@cedat.mak.ac.ug
SUMMARY:"Together for Earth" Exhibition
DESCRIPTION:African Visual Artists Associates (AVIAS) will be hosting an exhibition titled “Together for Earth” under the theme “Earth Reimagined” in line with World Earth Day celebrations on 22 April 2025 at the Makerere Institute of Heritage Conservation and Restoration at 12:00 pm. The World Earth Day is a special event dedicated to celebrating our planet and raising awareness about environmental conservation through art. In this regard\, AVIAS  will hold a panel discussion and exhibit artworks created by the refugee children from the Rwamwanja Settlement Camp.
URL:https://cedat.mak.ac.ug/event/together-for-earth-exhibition/
END:VEVENT
BEGIN:VEVENT
DTSTART;TZID=UTC:20250428T080000
DTEND;TZID=UTC:20250429T170000
DTSTAMP:20260420T031950
CREATED:20250425T120643Z
LAST-MODIFIED:20250425T120849Z
UID:10590-1745827200-1745946000@cedat.mak.ac.ug
SUMMARY:A PhD dissemination and Exhibition of Research Findings by Nabukenya Fidelis Matovu
DESCRIPTION:
URL:https://cedat.mak.ac.ug/event/visual-art-for-social-change-an-exploration-of-artistic-creations-by-selected-community-based-visual-arts-initiatives-in-uganda-a-phd-dissemination-and-exhibition-of-research-findings-by-nabukenya-f/
LOCATION:Makerere University Art Gallery\, Kampala\, Uganda
CATEGORIES:Art Exhibition,Margaret Trowell School of Industrial and Fine Arts (MTSIFA),PhD Desimanation
ATTACH;FMTTYPE=image/jpeg:https://cedat.mak.ac.ug/wp-content/uploads/2025/04/Fidelis-PhD-Dissemination-Postet-1e2-563-x-796.jpg
ORGANIZER;CN="Margaret Trowell School of Industrial and Fine Art":MAILTO:dean-mtsifa.cedat@mak.ac.ug
END:VEVENT
END:VCALENDAR